BEGIN:VCALENDAR
VERSION:2.0
PRODID:icalendar-ruby
CALSCALE:GREGORIAN
METHOD:PUBLISH
BEGIN:VEVENT
DTSTAMP:20260419T120832Z
UID:26-197864@mumc.online
DTSTART:20260515T140000Z
DTEND:20260515T210000Z
CLASS:PUBLIC
CREATED:20260410T103218
DESCRIPTION:
LAST-MODIFIED:20260410T103218
LOCATION:
SUMMARY:Red Cross Blood Drive
URL;VALUE=URI:https://www.mumc.online/events/red-cross-blood-drive/2026-05-
 15
ATTACH;FILENAME=blood-drive.png;FMTTYPE=image/png:https://dq5pwpg1q8ru0.clo
 udfront.net/2026/04/10/14/32/18/99ba32d5-e305-4a07-86b6-591b7759a154/blood
 -drive.png
END:VEVENT
END:VCALENDAR
