BEGIN:VCALENDAR
VERSION:2.0
PRODID:icalendar-ruby
CALSCALE:GREGORIAN
METHOD:PUBLISH
BEGIN:VEVENT
DTSTAMP:20260419T120303Z
UID:27-197870@mumc.online
DTSTART:20260426T160000Z
DTEND:20260426T190000Z
CLASS:PUBLIC
CREATED:20260414T104158
DESCRIPTION:Interested in becoming a member of MUMC? We invite you to join 
 our STEP UP class on April 26 from 12–3 to learn more about who we are\,
  what we believe\, and the many ways you can get connected and grow here. 
 This is a great opportunity to meet others\, ask questions\, and discover 
 if MUMC is the right home for you. If interested\, please email the church
  office: office@maumeeumc.net
LAST-MODIFIED:20260414T104158
LOCATION:
SUMMARY:Step Up. New Members Class
URL;VALUE=URI:https://www.mumc.online/events/step-up-new-members-class/2026
 -04-26
ATTACH;FILENAME=Step-Up.-New-Members-Class.png;FMTTYPE=image/png:https://dq
 5pwpg1q8ru0.cloudfront.net/2026/04/14/14/39/43/90face6a-ab0e-4ae4-8bc7-2a2
 01d828219/Step-Up.-New-Members-Class.png
END:VEVENT
END:VCALENDAR
